BEGIN:VCALENDAR
VERSION:2.0
PRODID:-//YourEventCompany//NONSGML v1.0//EN
BEGIN:VEVENT
UID:123456789@yourevent.com
DTSTAMP:20260520T083000Z
DTSTART:20260520T083000Z
DTEND:20260520T163000Z
SUMMARY:Subsea Cable Insurance Conference & Workshop 2026
LOCATION:Hilton London Canary Wharf
END:VEVENT
END:VCALENDAR

