BEGIN:VCALENDAR
VERSION:2.0
PRODID:-//YourEventCompany//NONSGML v1.0//EN
BEGIN:VEVENT
UID:123456789@yourevent.com
DTSTAMP:20260630T080000Z
DTSTART:20260630T080000Z
DTEND:20260630T163000Z
SUMMARY:Underwater Robotics Conference 2026
LOCATION:Murrayfield Stadium Conference Centre
END:VEVENT
END:VCALENDAR

