BEGIN:VCALENDAR
VERSION:2.0
PRODID:-//YourEventCompany//NONSGML v1.0//EN
BEGIN:VEVENT
UID:123456789@yourevent.com
DTSTAMP:20260616T090000Z
DTSTART:20260616T090000Z
DTEND:20260617T160000Z
SUMMARY:GUH at: Global Offshore Wind 2026
LOCATION:Manchester Central Convention Complex
END:VEVENT
END:VCALENDAR

